BEGIN:VCALENDAR
VERSION:2.0
PRODID:-//Westmoreland Symphony Orchestra - ECPv6.5.0.1//NONSGML v1.0//EN
CALSCALE:GREGORIAN
METHOD:PUBLISH
X-WR-CALNAME:Westmoreland Symphony Orchestra
X-ORIGINAL-URL:https://westmorelandsymphony.org
X-WR-CALDESC:Events for Westmoreland Symphony Orchestra
REFRESH-INTERVAL;VALUE=DURATION:PT1H
X-Robots-Tag:noindex
X-PUBLISHED-TTL:PT1H
BEGIN:VTIMEZONE
TZID:America/New_York
BEGIN:DAYLIGHT
TZOFFSETFROM:-0500
TZOFFSETTO:-0400
TZNAME:EDT
DTSTART:20260308T070000
END:DAYLIGHT
BEGIN:STANDARD
TZOFFSETFROM:-0400
TZOFFSETTO:-0500
TZNAME:EST
DTSTART:20261101T060000
END:STANDARD
END:VTIMEZONE
BEGIN:VEVENT
DTSTART;TZID=America/New_York:20260506T193000
DTEND;TZID=America/New_York:20260506T204500
DTSTAMP:20260423T054842
CREATED:20250915T173715Z
LAST-MODIFIED:20251111T161805Z
UID:10000626-1778095800-1778100300@westmorelandsymphony.org
SUMMARY:Coffee & Classics
DESCRIPTION:Join us for Coffee & Classics\, an engaging event blending music and conversation. Discover classical works\, ask questions. It’s a welcoming space for both seasoned listeners and newcomers to connect and explore. Ryan Leonard & Kira Bokalders\, WSO clarinets perform. \nWhite Rabbit drinks will be available for purchase\, or bring your own (wine\, beer\, water\, soda) along with your favorite snacks or charcuterie. Doors open at 7 p.m. FREE
URL:https://westmorelandsymphony.org/event/coffee-classics-3/
LOCATION:White Rabbit Cafe & Patisserie\, 113 N Main Street\, Greensburg\, 15601\, United States
CATEGORIES:Concerts,Event
ATTACH;FMTTYPE=image/jpeg:https://westmorelandsymphony.org/wp-content/uploads/2025/09/Coffee-May.jpg
END:VEVENT
END:VCALENDAR